BEGIN:VCALENDAR
VERSION:2.0
PRODID:-//Pitchero//NONSGML Pitchero//EN
X-WR-CALNAME:Letterkenny RFC
BEGIN:VEVENT
UID:0-3891683
DTSTART;TZID=Europe/Dublin:20171104T110000
DTEND;TZID=Europe/Dublin:20171104T130000
SUMMARY:U16 vs. Coleraine RFC (H)
URL:http://www.letterkennyrfc.ie/teams/28506/match-centre/0-3891683
END:VEVENT
BEGIN:VEVENT
UID:0-3891699
DTSTART;TZID=Europe/Dublin:20171104T110000
DTEND;TZID=Europe/Dublin:20171104T130000
SUMMARY:U14 vs. Coleraine RFC (H)
URL:http://www.letterkennyrfc.ie/teams/28507/match-centre/0-3891699
END:VEVENT
BEGIN:VEVENT
UID:0-3758341
DTSTART;TZID=Europe/Dublin:20171104T143000
DTEND;TZID=Europe/Dublin:20171104T163000
SUMMARY:1st XV vs. Strabane RFC (A)
URL:http://www.letterkennyrfc.ie/teams/126131/match-centre/0-3758341
END:VEVENT
BEGIN:VEVENT
UID:0-3787671
DTSTART;TZID=Europe/Dublin:20171104T143000
DTEND;TZID=Europe/Dublin:20171104T163000
SUMMARY:2nd XV vs. Donegal Town 2nd XV (A)
URL:http://www.letterkennyrfc.ie/teams/126132/match-centre/0-3787671
END:VEVENT
BEGIN:VEVENT
UID:0-3802548
DTSTART;TZID=Europe/Dublin:20171111T110000
DTEND;TZID=Europe/Dublin:20171111T130000
SUMMARY:U18 vs. Limavady RFC u18 (A)
URL:http://www.letterkennyrfc.ie/teams/28504/match-centre/0-3802548
END:VEVENT
BEGIN:VEVENT
UID:0-3891684
DTSTART;TZID=Europe/Dublin:20171111T110000
DTEND;TZID=Europe/Dublin:20171111T130000
SUMMARY:U16 vs. Limavady (A)
URL:http://www.letterkennyrfc.ie/teams/28506/match-centre/0-3891684
END:VEVENT
BEGIN:VEVENT
UID:0-3891700
DTSTART;TZID=Europe/Dublin:20171111T110000
DTEND;TZID=Europe/Dublin:20171111T130000
SUMMARY:U14 vs. Limavady RFC (A)
URL:http://www.letterkennyrfc.ie/teams/28507/match-centre/0-3891700
END:VEVENT
BEGIN:VEVENT
UID:0-3802549
DTSTART;TZID=Europe/Dublin:20171118T110000
DTEND;TZID=Europe/Dublin:20171118T130000
SUMMARY:U18 vs. City of Derry RFC u18 (H)
URL:http://www.letterkennyrfc.ie/teams/28504/match-centre/0-3802549
END:VEVENT
BEGIN:VEVENT
UID:0-3891685
DTSTART;TZID=Europe/Dublin:20171118T110000
DTEND;TZID=Europe/Dublin:20171118T130000
SUMMARY:U16 vs. City of Derry (H)
URL:http://www.letterkennyrfc.ie/teams/28506/match-centre/0-3891685
END:VEVENT
BEGIN:VEVENT
UID:0-3891701
DTSTART;TZID=Europe/Dublin:20171118T110000
DTEND;TZID=Europe/Dublin:20171118T130000
SUMMARY:U14 vs. City of Derry RFC (H)
URL:http://www.letterkennyrfc.ie/teams/28507/match-centre/0-3891701
END:VEVENT
BEGIN:VEVENT
UID:0-3758342
DTSTART;TZID=Europe/Dublin:20171118T143000
DTEND;TZID=Europe/Dublin:20171118T163000
SUMMARY:1st XV vs. Virginia RFC (H)
URL:http://www.letterkennyrfc.ie/teams/126131/match-centre/0-3758342
END:VEVENT
BEGIN:VEVENT
UID:0-3787672
DTSTART;TZID=Europe/Dublin:20171118T143000
DTEND;TZID=Europe/Dublin:20171118T163000
SUMMARY:2nd XV vs. Cookstown RFC (A)
URL:http://www.letterkennyrfc.ie/teams/126132/match-centre/0-3787672
END:VEVENT
BEGIN:VEVENT
UID:0-3758343
DTSTART;TZID=Europe/Dublin:20171125T143000
DTEND;TZID=Europe/Dublin:20171125T163000
SUMMARY:1st XV vs. Civil Service RFC (A)
URL:http://www.letterkennyrfc.ie/teams/126131/match-centre/0-3758343
END:VEVENT
BEGIN:VEVENT
UID:0-3787673
DTSTART;TZID=Europe/Dublin:20171125T143000
DTEND;TZID=Europe/Dublin:20171125T163000
SUMMARY:2nd XV vs. Enniskillen RFC 3rd XV (H)
URL:http://www.letterkennyrfc.ie/teams/126132/match-centre/0-3787673
END:VEVENT
BEGIN:VEVENT
UID:0-3802550
DTSTART;TZID=Europe/Dublin:20171202T110000
DTEND;TZID=Europe/Dublin:20171202T130000
SUMMARY:U18 vs. Ballymena RFC u18 (A)
URL:http://www.letterkennyrfc.ie/teams/28504/match-centre/0-3802550
END:VEVENT
BEGIN:VEVENT
UID:0-3891686
DTSTART;TZID=Europe/Dublin:20171202T110000
DTEND;TZID=Europe/Dublin:20171202T130000
SUMMARY:U16 vs. Ballymena (A)
URL:http://www.letterkennyrfc.ie/teams/28506/match-centre/0-3891686
END:VEVENT
BEGIN:VEVENT
UID:0-3891702
DTSTART;TZID=Europe/Dublin:20171202T110000
DTEND;TZID=Europe/Dublin:20171202T130000
SUMMARY:U14 vs. Ballymena RFC (A)
URL:http://www.letterkennyrfc.ie/teams/28507/match-centre/0-3891702
END:VEVENT
BEGIN:VEVENT
UID:0-3758344
DTSTART;TZID=Europe/Dublin:20171202T143000
DTEND;TZID=Europe/Dublin:20171202T163000
SUMMARY:1st XV vs. Monaghan RFC (H)
URL:http://www.letterkennyrfc.ie/teams/126131/match-centre/0-3758344
END:VEVENT
BEGIN:VEVENT
UID:0-3758362
DTSTART;TZID=Europe/Dublin:20171202T143000
DTEND;TZID=Europe/Dublin:20171202T163000
SUMMARY:2nd XV vs. McCambley Cup 1 (H)
URL:http://www.letterkennyrfc.ie/teams/126132/match-centre/0-3758362
END:VEVENT
BEGIN:VEVENT
UID:0-3802551
DTSTART;TZID=Europe/Dublin:20171209T110000
DTEND;TZID=Europe/Dublin:20171209T130000
SUMMARY:U18 vs. Ballymoney RFC u18 (A)
URL:http://www.letterkennyrfc.ie/teams/28504/match-centre/0-3802551
END:VEVENT
BEGIN:VEVENT
UID:0-3891687
DTSTART;TZID=Europe/Dublin:20171209T110000
DTEND;TZID=Europe/Dublin:20171209T130000
SUMMARY:U16 vs. Ballymoney RFC (A)
URL:http://www.letterkennyrfc.ie/teams/28506/match-centre/0-3891687
END:VEVENT
BEGIN:VEVENT
UID:0-3891703
DTSTART;TZID=Europe/Dublin:20171209T110000
DTEND;TZID=Europe/Dublin:20171209T130000
SUMMARY:U14 vs. Ballymoney RFC (A)
URL:http://www.letterkennyrfc.ie/teams/28507/match-centre/0-3891703
END:VEVENT
BEGIN:VEVENT
UID:0-3758345
DTSTART;TZID=Europe/Dublin:20171209T143000
DTEND;TZID=Europe/Dublin:20171209T163000
SUMMARY:1st XV vs. Donaghadee  RFC (H)
URL:http://www.letterkennyrfc.ie/teams/126131/match-centre/0-3758345
END:VEVENT
BEGIN:VEVENT
UID:0-3802552
DTSTART;TZID=Europe/Dublin:20171216T110000
DTEND;TZID=Europe/Dublin:20171216T130000
SUMMARY:U18 vs. Finn Valley RFC u18 (H)
URL:http://www.letterkennyrfc.ie/teams/28504/match-centre/0-3802552
END:VEVENT
BEGIN:VEVENT
UID:0-3891704
DTSTART;TZID=Europe/Dublin:20171216T110000
DTEND;TZID=Europe/Dublin:20171216T130000
SUMMARY:U14 vs. Finn Valley RFC (H)
URL:http://www.letterkennyrfc.ie/teams/28507/match-centre/0-3891704
END:VEVENT
BEGIN:VEVENT
UID:0-3758347
DTSTART;TZID=Europe/Dublin:20171216T143000
DTEND;TZID=Europe/Dublin:20171216T163000
SUMMARY:1st XV vs. Donegal Town RFC (A)
URL:http://www.letterkennyrfc.ie/teams/126131/match-centre/0-3758347
END:VEVENT
BEGIN:VEVENT
UID:0-3758363
DTSTART;TZID=Europe/Dublin:20171216T143000
DTEND;TZID=Europe/Dublin:20171216T163000
SUMMARY:2nd XV vs. McCambley Cup 2 (H)
URL:http://www.letterkennyrfc.ie/teams/126132/match-centre/0-3758363
END:VEVENT
BEGIN:VEVENT
UID:0-3344258
DTSTART;TZID=Europe/Dublin:20171230T110000
DTEND;TZID=Europe/Dublin:20171230T130000
SUMMARY:U16 vs. Tir Chonaill U16 (H)
URL:http://www.letterkennyrfc.ie/teams/28506/match-centre/0-3344258
END:VEVENT
BEGIN:VEVENT
UID:0-3891705
DTSTART;TZID=Europe/Dublin:20171230T110000
DTEND;TZID=Europe/Dublin:20171230T130000
SUMMARY:U14 vs. Inishowen RFC (A)
URL:http://www.letterkennyrfc.ie/teams/28507/match-centre/0-3891705
END:VEVENT
BEGIN:VEVENT
UID:0-3344293
DTSTART;TZID=Europe/Dublin:20171230T110000
DTEND;TZID=Europe/Dublin:20171230T130000
SUMMARY:U14 vs. Tir Chonaill U14 (H)
URL:http://www.letterkennyrfc.ie/teams/28507/match-centre/0-3344293
END:VEVENT
BEGIN:VEVENT
UID:0-3758348
DTSTART;TZID=Europe/Dublin:20171230T143000
DTEND;TZID=Europe/Dublin:20171230T163000
SUMMARY:1st XV vs. Lurgan RFC (H)
URL:http://www.letterkennyrfc.ie/teams/126131/match-centre/0-3758348
END:VEVENT
BEGIN:VEVENT
UID:0-3802553
DTSTART;TZID=Europe/Dublin:20180106T110000
DTEND;TZID=Europe/Dublin:20180106T130000
SUMMARY:U18 vs. Inishowen RFC u18 (A)
URL:http://www.letterkennyrfc.ie/teams/28504/match-centre/0-3802553
END:VEVENT
BEGIN:VEVENT
UID:0-3891688
DTSTART;TZID=Europe/Dublin:20180106T110000
DTEND;TZID=Europe/Dublin:20180106T130000
SUMMARY:U16 vs. Inishowen RFC (A)
URL:http://www.letterkennyrfc.ie/teams/28506/match-centre/0-3891688
END:VEVENT
BEGIN:VEVENT
UID:0-3802554
DTSTART;TZID=Europe/Dublin:20180113T110000
DTEND;TZID=Europe/Dublin:20180113T130000
SUMMARY:U18 vs. Rainey Old Boys RFC u18 (H)
URL:http://www.letterkennyrfc.ie/teams/28504/match-centre/0-3802554
END:VEVENT
BEGIN:VEVENT
UID:0-3891689
DTSTART;TZID=Europe/Dublin:20180113T110000
DTEND;TZID=Europe/Dublin:20180113T130000
SUMMARY:U16 vs. Rainey OB RFC (H)
URL:http://www.letterkennyrfc.ie/teams/28506/match-centre/0-3891689
END:VEVENT
BEGIN:VEVENT
UID:0-3891706
DTSTART;TZID=Europe/Dublin:20180113T110000
DTEND;TZID=Europe/Dublin:20180113T130000
SUMMARY:U14 vs. Rainey OB (H)
URL:http://www.letterkennyrfc.ie/teams/28507/match-centre/0-3891706
END:VEVENT
BEGIN:VEVENT
UID:0-3758349
DTSTART;TZID=Europe/Dublin:20180113T143000
DTEND;TZID=Europe/Dublin:20180113T163000
SUMMARY:1st XV vs. Holywood RFC (H)
URL:http://www.letterkennyrfc.ie/teams/126131/match-centre/0-3758349
END:VEVENT
BEGIN:VEVENT
UID:0-3802555
DTSTART;TZID=Europe/Dublin:20180120T110000
DTEND;TZID=Europe/Dublin:20180120T130000
SUMMARY:U18 vs. Coleraine RFC u18 (A)
URL:http://www.letterkennyrfc.ie/teams/28504/match-centre/0-3802555
END:VEVENT
BEGIN:VEVENT
UID:0-3891690
DTSTART;TZID=Europe/Dublin:20180120T110000
DTEND;TZID=Europe/Dublin:20180120T130000
SUMMARY:U16 vs. Coleraine RFC (A)
URL:http://www.letterkennyrfc.ie/teams/28506/match-centre/0-3891690
END:VEVENT
BEGIN:VEVENT
UID:0-3891707
DTSTART;TZID=Europe/Dublin:20180120T110000
DTEND;TZID=Europe/Dublin:20180120T130000
SUMMARY:U14 vs. Coleraine RFC (A)
URL:http://www.letterkennyrfc.ie/teams/28507/match-centre/0-3891707
END:VEVENT
BEGIN:VEVENT
UID:0-3758350
DTSTART;TZID=Europe/Dublin:20180120T143000
DTEND;TZID=Europe/Dublin:20180120T163000
SUMMARY:1st XV vs. Donegal Town RFC (A)
URL:http://www.letterkennyrfc.ie/teams/126131/match-centre/0-3758350
END:VEVENT
BEGIN:VEVENT
UID:0-3758351
DTSTART;TZID=Europe/Dublin:20180127T143000
DTEND;TZID=Europe/Dublin:20180127T163000
SUMMARY:1st XV vs. Newry RFC (H)
URL:http://www.letterkennyrfc.ie/teams/126131/match-centre/0-3758351
END:VEVENT
BEGIN:VEVENT
UID:0-3802556
DTSTART;TZID=Europe/Dublin:20180203T110000
DTEND;TZID=Europe/Dublin:20180203T130000
SUMMARY:U18 vs. City of Derry RFC u18 (A)
URL:http://www.letterkennyrfc.ie/teams/28504/match-centre/0-3802556
END:VEVENT
BEGIN:VEVENT
UID:0-3891691
DTSTART;TZID=Europe/Dublin:20180203T110000
DTEND;TZID=Europe/Dublin:20180203T130000
SUMMARY:U16 vs. City of Derry (A)
URL:http://www.letterkennyrfc.ie/teams/28506/match-centre/0-3891691
END:VEVENT
BEGIN:VEVENT
UID:0-3891708
DTSTART;TZID=Europe/Dublin:20180203T110000
DTEND;TZID=Europe/Dublin:20180203T130000
SUMMARY:U14 vs. City of Derry RFC (A)
URL:http://www.letterkennyrfc.ie/teams/28507/match-centre/0-3891708
END:VEVENT
BEGIN:VEVENT
UID:0-3802557
DTSTART;TZID=Europe/Dublin:20180210T110000
DTEND;TZID=Europe/Dublin:20180210T130000
SUMMARY:U18 vs. Ballymena RFC u18 (H)
URL:http://www.letterkennyrfc.ie/teams/28504/match-centre/0-3802557
END:VEVENT
BEGIN:VEVENT
UID:0-3891692
DTSTART;TZID=Europe/Dublin:20180210T110000
DTEND;TZID=Europe/Dublin:20180210T130000
SUMMARY:U16 vs. Ballymena (H)
URL:http://www.letterkennyrfc.ie/teams/28506/match-centre/0-3891692
END:VEVENT
BEGIN:VEVENT
UID:0-3891709
DTSTART;TZID=Europe/Dublin:20180210T110000
DTEND;TZID=Europe/Dublin:20180210T130000
SUMMARY:U14 vs. Ballymena (H)
URL:http://www.letterkennyrfc.ie/teams/28507/match-centre/0-3891709
END:VEVENT
BEGIN:VEVENT
UID:0-3758352
DTSTART;TZID=Europe/Dublin:20180210T143000
DTEND;TZID=Europe/Dublin:20180210T163000
SUMMARY:1st XV vs. County Cavan RFC (A)
URL:http://www.letterkennyrfc.ie/teams/126131/match-centre/0-3758352
END:VEVENT
BEGIN:VEVENT
UID:0-3802558
DTSTART;TZID=Europe/Dublin:20180217T110000
DTEND;TZID=Europe/Dublin:20180217T130000
SUMMARY:U18 vs. Ballymoney RFC u18 (H)
URL:http://www.letterkennyrfc.ie/teams/28504/match-centre/0-3802558
END:VEVENT
BEGIN:VEVENT
UID:0-3891693
DTSTART;TZID=Europe/Dublin:20180217T110000
DTEND;TZID=Europe/Dublin:20180217T130000
SUMMARY:U16 vs. Ballymoney (H)
URL:http://www.letterkennyrfc.ie/teams/28506/match-centre/0-3891693
END:VEVENT
BEGIN:VEVENT
UID:0-3891710
DTSTART;TZID=Europe/Dublin:20180217T110000
DTEND;TZID=Europe/Dublin:20180217T130000
SUMMARY:U14 vs. Ballymoney (H)
URL:http://www.letterkennyrfc.ie/teams/28507/match-centre/0-3891710
END:VEVENT
BEGIN:VEVENT
UID:0-3758353
DTSTART;TZID=Europe/Dublin:20180217T143000
DTEND;TZID=Europe/Dublin:20180217T163000
SUMMARY:1st XV vs. TBA Cup 1/4 (H)
URL:http://www.letterkennyrfc.ie/teams/126131/match-centre/0-3758353
END:VEVENT
BEGIN:VEVENT
UID:0-3758364
DTSTART;TZID=Europe/Dublin:20180217T143000
DTEND;TZID=Europe/Dublin:20180217T163000
SUMMARY:2nd XV vs. McCambley Cup 1/4 (H)
URL:http://www.letterkennyrfc.ie/teams/126132/match-centre/0-3758364
END:VEVENT
BEGIN:VEVENT
UID:0-3758354
DTSTART;TZID=Europe/Dublin:20180303T143000
DTEND;TZID=Europe/Dublin:20180303T163000
SUMMARY:1st XV vs. Strabane RFC (H)
URL:http://www.letterkennyrfc.ie/teams/126131/match-centre/0-3758354
END:VEVENT
BEGIN:VEVENT
UID:0-3758355
DTSTART;TZID=Europe/Dublin:20180310T143000
DTEND;TZID=Europe/Dublin:20180310T163000
SUMMARY:1st XV vs. Virginia RFC (A)
URL:http://www.letterkennyrfc.ie/teams/126131/match-centre/0-3758355
END:VEVENT
BEGIN:VEVENT
UID:0-3758356
DTSTART;TZID=Europe/Dublin:20180324T143000
DTEND;TZID=Europe/Dublin:20180324T163000
SUMMARY:1st XV vs. TBA Cup 1/2 (H)
URL:http://www.letterkennyrfc.ie/teams/126131/match-centre/0-3758356
END:VEVENT
BEGIN:VEVENT
UID:0-3758365
DTSTART;TZID=Europe/Dublin:20180324T143000
DTEND;TZID=Europe/Dublin:20180324T163000
SUMMARY:2nd XV vs. McCambley Cup Semi (H)
URL:http://www.letterkennyrfc.ie/teams/126132/match-centre/0-3758365
END:VEVENT
BEGIN:VEVENT
UID:0-3758359
DTSTART;TZID=Europe/Dublin:20180331T143000
DTEND;TZID=Europe/Dublin:20180331T163000
SUMMARY:1st XV vs. Civil Service RFC (H)
URL:http://www.letterkennyrfc.ie/teams/126131/match-centre/0-3758359
END:VEVENT
BEGIN:VEVENT
UID:0-3758357
DTSTART;TZID=Europe/Dublin:20180407T143000
DTEND;TZID=Europe/Dublin:20180407T163000
SUMMARY:1st XV vs. TBA Cup Final (H)
URL:http://www.letterkennyrfc.ie/teams/126131/match-centre/0-3758357
END:VEVENT
BEGIN:VEVENT
UID:0-3758366
DTSTART;TZID=Europe/Dublin:20180407T143000
DTEND;TZID=Europe/Dublin:20180407T163000
SUMMARY:2nd XV vs. McCambley Cup Final (H)
URL:http://www.letterkennyrfc.ie/teams/126132/match-centre/0-3758366
END:VEVENT
BEGIN:VEVENT
UID:0-3758358
DTSTART;TZID=Europe/Dublin:20180414T143000
DTEND;TZID=Europe/Dublin:20180414T163000
SUMMARY:1st XV vs. Monaghan RFC (A)
URL:http://www.letterkennyrfc.ie/teams/126131/match-centre/0-3758358
END:VEVENT
END:VCALENDAR
